BEGIN:VCALENDAR
VERSION:2.0
PRODID:-//CUSG//CMS//EN
METHOD:PUBLISH

BEGIN:VEVENT
DTSTART:20260803T120000
DTEND:20260803T130000
CREATED:20260422T214405
DTSTAMP:20260422T214405
UID:MICHIGANSCHOOLS&AMP;GOVERNMENTCREDITUNIONE865
SEQUENCE:0
SUMMARY:Getting Started with Cash & Credit</br>Rochester-The Village Branch
LOCATION:Walton Blvd and Adams: 2950 Walton Boulevard, Rochester Hills
DESCRIPTION:REGISTRATION REQUIRED. Does your teen know how to handle his or her finances in the real world?\n\nWe invite you both to join us for an educational workshop on the proper usage of checking and lending products. (This workshop is geared toward teens aged 16 and older.) After this session, qualified teens will be able to open a checking account and apply for a low-interest, low-limit credit card with parental consent. Teens will be required to provide the necessary identification at account opening, which includes student ID, driver s license, etc.
END:VEVENT
END:VCALENDAR
