BEGIN:VCALENDAR
VERSION:2.0
PRODID:-//CUSG//CMS//EN
METHOD:PUBLISH

BEGIN:VEVENT
DTSTART:20260722T120000
DTEND:20260722T130000
CREATED:20260422T214919
DTSTAMP:20260422T214919
UID:MICHIGANSCHOOLS&AMP;GOVERNMENTCREDITUNIONE871
SEQUENCE:0
SUMMARY:Financial Success Strategies</br>St. Clair Shores Branch
LOCATION:Little Mack, South of 10 Mile Road: 24515 Little Mack Avenue, St. Clair Shores
DESCRIPTION:REGISTRATION REQUIRED. Learn different ways to save for future costs to help find one that fits your lifestyle. Discover current trends that affect those who are trying to save for their future. 
END:VEVENT
END:VCALENDAR
