BEGIN:VCALENDAR
VERSION:2.0
PRODID:-//CUSG//CMS//EN
METHOD:PUBLISH

BEGIN:VEVENT
DTSTART:20260810T120000
DTEND:20260810T130000
CREATED:20260422T214656
DTSTAMP:20260422T214656
UID:MICHIGANSCHOOLS&AMP;GOVERNMENTCREDITUNIONE873
SEQUENCE:0
SUMMARY:Financial Success Strategies</br>Mound Branch
LOCATION:Mound and 18 Mile: 4131 Mound Road, Sterling Heights
DESCRIPTION:REGISTRATION REQUIRED. Learn different ways to save for future costs to help find one that fits your lifestyle. Discover current trends that affect those who are trying to save for their future. 
END:VEVENT
END:VCALENDAR
